BEGIN:VCALENDAR
VERSION:2.0
PRODID:-//Santa Fe Archaeological Society - ECPv6.11.0.1//NONSGML v1.0//EN
CALSCALE:GREGORIAN
METHOD:PUBLISH
X-WR-CALNAME:Santa Fe Archaeological Society
X-ORIGINAL-URL:https://sfarchaeology.org
X-WR-CALDESC:Events for Santa Fe Archaeological Society
REFRESH-INTERVAL;VALUE=DURATION:PT1H
X-Robots-Tag:noindex
X-PUBLISHED-TTL:PT1H
BEGIN:VTIMEZONE
TZID:America/Denver
BEGIN:DAYLIGHT
TZOFFSETFROM:-0700
TZOFFSETTO:-0600
TZNAME:MDT
DTSTART:20240310T090000
END:DAYLIGHT
BEGIN:STANDARD
TZOFFSETFROM:-0600
TZOFFSETTO:-0700
TZNAME:MST
DTSTART:20241103T080000
END:STANDARD
END:VTIMEZONE
BEGIN:VEVENT
DTSTART;TZID=America/Denver:20241119T190000
DTEND;TZID=America/Denver:20241119T200000
DTSTAMP:20260424T150850
CREATED:20240910T210826Z
LAST-MODIFIED:20240910T210826Z
UID:1373-1732042800-1732046400@sfarchaeology.org
SUMMARY:Zuni Region in the Post-Chacoan Era - Keith Kintigh
DESCRIPTION:Abstract to come. \nKeith Kintigh \nKeith W. Kintigh is an American anthropologist and professor emeritus at Arizona State University. He specializes in quantitative archaeology and the archaeology of the Southwestern United States\, conducting field research on Ancestral Pueblo sites in the Cibola region of New Mexico.
URL:https://sfarchaeology.org/event/zuni-region-in-the-post-chacoan-era-keith-kintigh/
LOCATION:Pecos Trail Cafe\, 2239 Old Pecos Trail\, Santa Fe\, New Mexico\, 87505
CATEGORIES:Lecture Meeting
ATTACH;FMTTYPE=image/jpeg:https://sfarchaeology.org/wp-content/uploads/2024/09/kintigh.jpg
END:VEVENT
END:VCALENDAR