BEGIN:VCALENDAR
VERSION:2.0
PRODID:-//Santa Fe Archaeological Society - ECPv6.11.0.1//NONSGML v1.0//EN
CALSCALE:GREGORIAN
METHOD:PUBLISH
X-ORIGINAL-URL:https://sfarchaeology.org
X-WR-CALDESC:Events for Santa Fe Archaeological Society
REFRESH-INTERVAL;VALUE=DURATION:PT1H
X-Robots-Tag:noindex
X-PUBLISHED-TTL:PT1H
BEGIN:VTIMEZONE
TZID:America/Denver
BEGIN:DAYLIGHT
TZOFFSETFROM:-0700
TZOFFSETTO:-0600
TZNAME:MDT
DTSTART:20230312T090000
END:DAYLIGHT
BEGIN:STANDARD
TZOFFSETFROM:-0600
TZOFFSETTO:-0700
TZNAME:MST
DTSTART:20231105T080000
END:STANDARD
END:VTIMEZONE
BEGIN:VEVENT
DTSTART;TZID=America/Denver:20230923T093000
DTEND;TZID=America/Denver:20230923T113000
DTSTAMP:20260424T084424
CREATED:20230920T152120Z
LAST-MODIFIED:20230920T152556Z
UID:1233-1695461400-1695468600@sfarchaeology.org
SUMMARY:Guided Tour of Abo' - Salinas Pueblo Missions National Monument
DESCRIPTION:Please join us on September 23rd at 9:30 AM for a tour of the Abo’ site located near Mountainair.\, New Mexico.  The tour will last about one hour and will be led by Alex Arnold\, Chief of Interpretation and Visitor Service for the National Monument.  The group will meet at 69 Ruins Rd\, Mountainair\, New Mexico.
URL:https://sfarchaeology.org/event/guided-tour-of-abo-salinas-pueblo-missions-national-monument/
LOCATION:Abo Mission\, 69 Ruins Rd\, Mountainair\, NM\, 87036\, United States
CATEGORIES:Brown Bag
ATTACH;FMTTYPE=image/jpeg:https://sfarchaeology.org/wp-content/uploads/2023/09/Abo.jpg
END:VEVENT
END:VCALENDAR