BEGIN:VCALENDAR
VERSION:2.0
PRODID:-//Santa Fe Archaeological Society - ECPv6.11.0.1//NONSGML v1.0//EN
CALSCALE:GREGORIAN
METHOD:PUBLISH
X-ORIGINAL-URL:https://sfarchaeology.org
X-WR-CALDESC:Events for Santa Fe Archaeological Society
REFRESH-INTERVAL;VALUE=DURATION:PT1H
X-Robots-Tag:noindex
X-PUBLISHED-TTL:PT1H
BEGIN:VTIMEZONE
TZID:America/Denver
BEGIN:DAYLIGHT
TZOFFSETFROM:-0700
TZOFFSETTO:-0600
TZNAME:MDT
DTSTART:20240310T090000
END:DAYLIGHT
BEGIN:STANDARD
TZOFFSETFROM:-0600
TZOFFSETTO:-0700
TZNAME:MST
DTSTART:20241103T080000
END:STANDARD
END:VTIMEZONE
BEGIN:VEVENT
DTSTART;TZID=America/Denver:20240421T103000
DTEND;TZID=America/Denver:20240421T120000
DTSTAMP:20260423T104255
CREATED:20230901T181318Z
LAST-MODIFIED:20230901T184341Z
UID:1193-1713695400-1713700800@sfarchaeology.org
SUMMARY:Guided Tour of Los Luceros Historic Site
DESCRIPTION:Join us for a tour of Los Luceros  Historic Site on Sunday\, April 21\, at 10:30 AM.\n\n\n\n\n\n\n\n\nRebecca Ward will be leading the tour\, which will last an hour and a half. Afterwards\, you are welcome to find a place to eat lunch and walk around on our own. \nThe entry fee is $7 for adults. Free for children 16 years and younger.  New Mexico foster families are admitted free. Museum of New Mexico Foundation members may have a free pass. They will need to show their card\, though. \nThis tour is open to all interested parties. \nRebecca Ward \nRebecca Ward is the Instructional Coordinator for the Los Luceros Historic Site. She started at Los Luceros in February of 2020 as the site ranger and became the main site history researcher during the site’s closure to the public from Marcj 2020 to February 2021. Once Los Luceros reopened to public visitation she gave tours\, answered research requests\, and created the current interpretive signage in the buildings.  Rebecca has a Master of Arts degree in Museum Studies from the University of Oklahoma.  She has volunteered and worked for the National Park Service at Mesa Verde National Park\, Petroglyph National Monument\, Chaco Culture National Historical Park\, Boston Harbor Islands National Recreation Area\, and she has also worked for the 501C3 Private non-profit Washakie Museum and Cultural Center in Worland\, NY.  Rebecca’s focus at Los Luceros may have changed in working primarily with children by giving school tours and doing virtual classroom visits\, but she still shares the history and beauty of Los Luceros every day.
URL:https://sfarchaeology.org/event/guided-tour-of-los-luceros-historic-site/
LOCATION:Los Luceros Historical Site\, 258 Co Rd 41\, Alcalde\, NM\, 87511\, United States
CATEGORIES:Brown Bag
ATTACH;FMTTYPE=image/jpeg:https://sfarchaeology.org/wp-content/uploads/2022/09/Rebecca-Ward.jpg
END:VEVENT
END:VCALENDAR