BEGIN:VCALENDAR
VERSION:2.0
PRODID:-//Santa Fe Archaeological Society - ECPv6.11.0.1//NONSGML v1.0//EN
CALSCALE:GREGORIAN
METHOD:PUBLISH
X-ORIGINAL-URL:https://sfarchaeology.org
X-WR-CALDESC:Events for Santa Fe Archaeological Society
REFRESH-INTERVAL;VALUE=DURATION:PT1H
X-Robots-Tag:noindex
X-PUBLISHED-TTL:PT1H
BEGIN:VTIMEZONE
TZID:America/Denver
BEGIN:DAYLIGHT
TZOFFSETFROM:-0700
TZOFFSETTO:-0600
TZNAME:MDT
DTSTART:20230312T090000
END:DAYLIGHT
BEGIN:STANDARD
TZOFFSETFROM:-0600
TZOFFSETTO:-0700
TZNAME:MST
DTSTART:20231105T080000
END:STANDARD
END:VTIMEZONE
BEGIN:VEVENT
DTSTART;TZID=America/Denver:20231121T190000
DTEND;TZID=America/Denver:20231121T200000
DTSTAMP:20260425T074756
CREATED:20230829T214037Z
LAST-MODIFIED:20230829T214223Z
UID:1178-1700593200-1700596800@sfarchaeology.org
SUMMARY:Who Owns the Water Here? - Mac Watson
DESCRIPTION:An illustrated narrative of how the water in the Santa Fe River has been administered since 1609 with a focus on our Water History Park and Interpretive Center.
URL:https://sfarchaeology.org/event/who-owns-the-water-here-mac-watson/
LOCATION:Pecos Trail Cafe\, 2239 Old Pecos Trail\, Santa Fe\, New Mexico\, 87505
CATEGORIES:Lecture Meeting
ATTACH;FMTTYPE=image/jpeg:https://sfarchaeology.org/wp-content/uploads/2023/08/MacWatson.jpg
END:VEVENT
END:VCALENDAR