BEGIN:VCALENDAR
VERSION:2.0
PRODID:-//Santa Fe Archaeological Society - ECPv6.11.0.1//NONSGML v1.0//EN
CALSCALE:GREGORIAN
METHOD:PUBLISH
X-ORIGINAL-URL:https://sfarchaeology.org
X-WR-CALDESC:Events for Santa Fe Archaeological Society
REFRESH-INTERVAL;VALUE=DURATION:PT1H
X-Robots-Tag:noindex
X-PUBLISHED-TTL:PT1H
BEGIN:VTIMEZONE
TZID:America/Denver
BEGIN:DAYLIGHT
TZOFFSETFROM:-0700
TZOFFSETTO:-0600
TZNAME:MDT
DTSTART:20240310T090000
END:DAYLIGHT
BEGIN:STANDARD
TZOFFSETFROM:-0600
TZOFFSETTO:-0700
TZNAME:MST
DTSTART:20241103T080000
END:STANDARD
END:VTIMEZONE
BEGIN:VEVENT
DTSTART;TZID=America/Denver:20240917T190000
DTEND;TZID=America/Denver:20240917T200000
DTSTAMP:20260424T163904
CREATED:20240903T171926Z
LAST-MODIFIED:20240903T180919Z
UID:1360-1726599600-1726603200@sfarchaeology.org
SUMMARY:The Galisteo Basin as a Multicultural Landscape - Eric Blinman
DESCRIPTION:Puebloan peoples are stereotyped under a single label\, which is a profound injustice to their rich cultural diversity. This diversity also implies the existence of distinct histories\, and the unique setting of the Galisteo Basin provides an opportunity to explore these histories. The uniqueness of the Galisteo Basin is largely due to its susceptibility to climate change and the interaction of the environment with human economies. Tiwa\, Tewa\, Tano\, Towa\, and Keres cultural groups were well established in north central New Mexico at the beginning of the twelfth century\, enjoying a stable climate pattern that supported a cultural florescence in the Four Corners region. Drought and a change in the monsoon rainfall pattern in the mid-to-late 12th century disrupted the stable cultural geography\, and the Galisteo Basin was opened to agricultural homesteading. By the mid-twelfth century\, more than five generations before the Mesa Verde abandonment\, immigrants began colonizing the Basin. More than 200 years of conflicts-of-interest and conflict ensued\, resulting in the 15th century formation of the Galisteo Basin Pueblos\, and giving form to the cultural diversity encountered during European colonization. \n  \n  \nEric Blinman began studying archaeology in 1967\, eventually getting degrees in anthropology from UC Berkeley and Washington State University. He joined the Museum of New Mexico’s archaeology program in 1988 as a laboratory supervisor for projects in the Four Corners region of New Mexico. In 1992-1993\, Eric was introduced to Galisteo Basin archaeology by Tim Maxwell and John Ware as a field conservation specialist\, working to document perishable ceremonial artifacts that had been encountered by Forrest Fenn’s excavations at Pueblo San Lazaro. Those were also the years that the Office of Archaeological Studies (OAS) edited and published Christina Singleton Mednick’s “San Cristobal: Voices and Visions of the Galisteo Basin.” Tim’s relationship with the Singleton family resulted in more than three decades of access to Galisteo Basin archaeology by OAS archaeologists\, including Eric. He has brought his knowledge of Four Corners pottery\, ceramic technology\, paleoenvironments\, and cultural affiliation studies to the problems and potentials of the complex history of the Galisteo Basin.
URL:https://sfarchaeology.org/event/the-galisteo-basin-as-a-multicultural-landscape/
LOCATION:Pecos Trail Cafe\, 2239 Old Pecos Trail\, Santa Fe\, New Mexico\, 87505
ATTACH;FMTTYPE=image/jpeg:https://sfarchaeology.org/wp-content/uploads/2024/09/Eric-Blinman.jpg
END:VEVENT
END:VCALENDAR