BEGIN:VCALENDAR
VERSION:2.0
PRODID:-//Santa Fe Archaeological Society - ECPv6.11.0.1//NONSGML v1.0//EN
CALSCALE:GREGORIAN
METHOD:PUBLISH
X-WR-CALNAME:Santa Fe Archaeological Society
X-ORIGINAL-URL:https://sfarchaeology.org
X-WR-CALDESC:Events for Santa Fe Archaeological Society
REFRESH-INTERVAL;VALUE=DURATION:PT1H
X-Robots-Tag:noindex
X-PUBLISHED-TTL:PT1H
BEGIN:VTIMEZONE
TZID:America/Denver
BEGIN:DAYLIGHT
TZOFFSETFROM:-0700
TZOFFSETTO:-0600
TZNAME:MDT
DTSTART:20250309T090000
END:DAYLIGHT
BEGIN:STANDARD
TZOFFSETFROM:-0600
TZOFFSETTO:-0700
TZNAME:MST
DTSTART:20251102T080000
END:STANDARD
END:VTIMEZONE
BEGIN:VEVENT
DTSTART;TZID=America/Denver:20250218T190000
DTEND;TZID=America/Denver:20250218T200000
DTSTAMP:20260424T090735
CREATED:20240903T181719Z
LAST-MODIFIED:20240903T181801Z
UID:1367-1739905200-1739908800@sfarchaeology.org
SUMMARY:Recent Research at the Abó and Quaraí Units of Salinas Pueblo Missions National Monument - Emily Brown
DESCRIPTION:Aspen CRM Solutions recently completed archaeological surveys of the monument units surrounding the Tompiro pueblo of Abó and the Tiwa pueblo of Quaraí at Salinas Pueblo Missions National Monument near Mountainair\, New Mexico\, both of which contain the remains of a large pueblo and a Spanish Colonial mission.  The occupation sequences for both are now much better understood\, and detailed ceramic analyses have allowed us to identify the general construction sequences for the various roomblocks at both pueblos.  We also have a much better understanding of the use of the surrounding landscape by different groups over time.  The presentation summarizes the findings of the surveys and discusses of the results of the associated research.
URL:https://sfarchaeology.org/event/recent-research-at-the-abo-and-quarai-units-of-salinas-pueblo-missions-national-monument-emily-brown/
LOCATION:Pecos Trail Cafe\, 2239 Old Pecos Trail\, Santa Fe\, New Mexico\, 87505
CATEGORIES:Lecture Meeting
ATTACH;FMTTYPE=image/jpeg:https://sfarchaeology.org/wp-content/uploads/2022/09/E-Brown-Headshot-sm-scaled.jpg
END:VEVENT
END:VCALENDAR